BEGIN:VCALENDAR
VERSION:2.0
PRODID:-//InvisionCommunity Events 4.7.14//EN
METHOD:PUBLISH
CALSCALE:GREGORIAN
REFRESH-INTERVAL:PT15M
X-PUBLISHED-TTL:PT15M
X-WR-CALNAME:Calendrier Communautaire
NAME:Calendrier Communautaire
BEGIN:VTIMEZONE
TZID:Europe/London
TZURL:http://tzurl.org/zoneinfo/Europe/London
X-LIC-LOCATION:Europe/London
BEGIN:DAYLIGHT
TZOFFSETFROM:+0000
TZOFFSETTO:+0100
TZNAME:BST
DTSTART:20180325T020000Z
RRULE:FREQ=YEARLY;BYMONTH=3;BYDAY=-1SU
END:DAYLIGHT
BEGIN:STANDARD
TZOFFSETFROM:+0100
TZOFFSETTO:+0000
TZNAME:GMT
DTSTART:20181028T020000Z
RRULE:FREQ=YEARLY;BYMONTH=10;BYDAY=-1SU
END:STANDARD
END:VTIMEZONE
BEGIN:VEVENT
SUMMARY:[H5] FFArmageddon #16 | Halo.fr
DTSTAMP:20181103T130856Z
SEQUENCE:0
UID:967-1-b5c04f7b3f733bcbcff44af62a0d7fa1@dev.halo.fr
ORGANIZER;CN="Upper Chief":noreply@halo.fr
DESCRIPTION:\n\n	FFArmageddon Contest #16\nSaison 4 : Forerunner\n\n\n\
	n	Toutes les informations sur l’organisation sont à retrouver &gt\; ic
	i &lt\;\n\n\n\n	L'événement sera diffusé par Romanitou sur la chaîne Y
	ouTube\, Twitch et Mixer de Halo.fr.\n\n\n\n	Organisateur(s) : Romanitou\
	n\n
DTSTART:20181130T200000Z
DTEND:20181130T220000Z
ATTENDEE;CN="Spartan Fred";CUTYPE=INDIVIDUAL;PARTSTAT=ACCEPT
	ED:noreply@halo.fr
ATTENDEE;CN="Lightsu";CUTYPE=INDIVIDUAL;PARTSTAT=ACCEPTED:no
	reply@halo.fr
ATTENDEE;CN="INFINITY Mania";CUTYPE=INDIVIDUAL;PARTSTAT=ACCE
	PTED:noreply@halo.fr
ATTENDEE;CN="Xsjad0 oRn";CUTYPE=INDIVIDUAL;PARTSTAT=ACCEPTED
	:noreply@halo.fr
ATTENDEE;CN="TouBenF";CUTYPE=INDIVIDUAL;PARTSTAT=ACCEPTED:no
	reply@halo.fr
END:VEVENT
END:VCALENDAR
