BEGIN:VCALENDAR
VERSION:2.0
PRODID:-//InvisionCommunity Events 4.7.14//EN
METHOD:PUBLISH
CALSCALE:GREGORIAN
REFRESH-INTERVAL:PT15M
X-PUBLISHED-TTL:PT15M
X-WR-CALNAME:Calendrier Communautaire
NAME:Calendrier Communautaire
BEGIN:VTIMEZONE
TZID:Europe/London
TZURL:http://tzurl.org/zoneinfo/Europe/London
X-LIC-LOCATION:Europe/London
BEGIN:DAYLIGHT
TZOFFSETFROM:+0000
TZOFFSETTO:+0100
TZNAME:BST
DTSTART:20180325T020000Z
RRULE:FREQ=YEARLY;BYMONTH=3;BYDAY=-1SU
END:DAYLIGHT
BEGIN:STANDARD
TZOFFSETFROM:+0100
TZOFFSETTO:+0000
TZNAME:GMT
DTSTART:20181028T020000Z
RRULE:FREQ=YEARLY;BYMONTH=10;BYDAY=-1SU
END:STANDARD
END:VTIMEZONE
BEGIN:VEVENT
SUMMARY:[HW2] Multi | Halo.fr
DTSTAMP:20180801T130805Z
SEQUENCE:0
UID:853-1-b5c04f7b3f733bcbcff44af62a0d7fa1@dev.halo.fr
ORGANIZER;CN="Upper Chief":noreply@halo.fr
DESCRIPTION:\n\n	Soirée Multi sur Halo Wars 2\n\n\n\n	Oly Oly Open Pa
	rty !\n\n\n\n	\"Venez prouver depuis votre fauteuil que vous saurez galv
	aniser vos troupes et ruser avec elles face à vos adversaires...\"\n\n\n
	\n	Nous irons en fonction de vos envies en ligne ou en partie personnalis
	ée.\n\n\n\n	Horaire : 21h - 23h\n\n\n\n	Organisateur(s) de cet événeme
	nt : Arker Spectre\n\n\n\n	→ Règles de bonne conduite :\n\n\n\n	Il est
	 attendu de la part des participants un fair-play irréprochable.\n\n	Po
	ur citer le lien : \"ce concept recouvre à la fois le respect de l’ad
	versaire\, des règles\, des décisions de l’arbitre\, du public et de
	 l’esprit du jeu\, mais aussi la loyauté\, la maîtrise de soi et la di
	gnité dans la victoire comme dans la défaite.\"\n\n
DTSTART:20180824T190000Z
DTEND:20180824T210000Z
ATTENDEE;CN="Spartan Fred";CUTYPE=INDIVIDUAL;PARTSTAT=ACCEPT
	ED:noreply@halo.fr
ATTENDEE;CN="Romanitou";CUTYPE=INDIVIDUAL;PARTSTAT=ACCEPTED:
	noreply@halo.fr
END:VEVENT
END:VCALENDAR
