BEGIN:VCALENDAR
VERSION:2.0
PRODID:-//InvisionCommunity Events 4.7.14//EN
METHOD:PUBLISH
CALSCALE:GREGORIAN
REFRESH-INTERVAL:PT15M
X-PUBLISHED-TTL:PT15M
X-WR-CALNAME:Calendrier Communautaire
NAME:Calendrier Communautaire
BEGIN:VTIMEZONE
TZID:Europe/London
TZURL:http://tzurl.org/zoneinfo/Europe/London
X-LIC-LOCATION:Europe/London
BEGIN:DAYLIGHT
TZOFFSETFROM:+0000
TZOFFSETTO:+0100
TZNAME:BST
DTSTART:20180325T020000Z
RRULE:FREQ=YEARLY;BYMONTH=3;BYDAY=-1SU
END:DAYLIGHT
BEGIN:STANDARD
TZOFFSETFROM:+0100
TZOFFSETTO:+0000
TZNAME:GMT
DTSTART:20181028T020000Z
RRULE:FREQ=YEARLY;BYMONTH=10;BYDAY=-1SU
END:STANDARD
END:VTIMEZONE
BEGIN:VEVENT
SUMMARY:[H5] Arena | Halo.fr
DTSTAMP:20180801T130201Z
SEQUENCE:0
UID:850-1-b5c04f7b3f733bcbcff44af62a0d7fa1@dev.halo.fr
ORGANIZER;CN="Upper Chief":noreply@halo.fr
DESCRIPTION:\n\n	Soirée Arena sur Halo 5 Guardians\n\n\n\n	Oly Oly Ope
	n Party !\n\n\n\n	\"En Arena\, il faut se baisser pour ramasser ses armes\
	, alors attention au dos !\"\n\n\n\n	En fonction du nombre de participants
	 ou de vous\, nous irons en ligne ou en partie personnalisée.\n\n\n\n	Hor
	aire : 21h - 23h\n\n\n\n	Organisateur(s) de cet événement : Arker Spectr
	e &amp\; Romanitou\n\n
DTSTART:20180808T190000Z
DTEND:20180808T210000Z
ATTENDEE;CN="faucongg";CUTYPE=INDIVIDUAL;PARTSTAT=ACCEPTED:n
	oreply@halo.fr
ATTENDEE;CN="nooxy41";CUTYPE=INDIVIDUAL;PARTSTAT=ACCEPTED:no
	reply@halo.fr
END:VEVENT
END:VCALENDAR
