BEGIN:VCALENDAR
VERSION:2.0
PRODID:-//InvisionCommunity Events 4.7.14//EN
METHOD:PUBLISH
CALSCALE:GREGORIAN
REFRESH-INTERVAL:PT15M
X-PUBLISHED-TTL:PT15M
X-WR-CALNAME:Calendrier Communautaire
NAME:Calendrier Communautaire
BEGIN:VTIMEZONE
TZID:Europe/London
TZURL:http://tzurl.org/zoneinfo/Europe/London
X-LIC-LOCATION:Europe/London
BEGIN:DAYLIGHT
TZOFFSETFROM:+0000
TZOFFSETTO:+0100
TZNAME:BST
DTSTART:20180325T020000Z
RRULE:FREQ=YEARLY;BYMONTH=3;BYDAY=-1SU
END:DAYLIGHT
BEGIN:STANDARD
TZOFFSETFROM:+0100
TZOFFSETTO:+0000
TZNAME:GMT
DTSTART:20181028T020000Z
RRULE:FREQ=YEARLY;BYMONTH=10;BYDAY=-1SU
END:STANDARD
END:VTIMEZONE
BEGIN:VEVENT
SUMMARY:[H5] Forge | Halo.fr
DTSTAMP:20180401T100615Z
SEQUENCE:0
UID:700-1-b5c04f7b3f733bcbcff44af62a0d7fa1@dev.halo.fr
ORGANIZER;CN="Upper Chief":noreply@halo.fr
DESCRIPTION:\n\n	Après-midi Forge sur Halo 5 Guardians\n\n\n\n	Oly Oly 
	Open Party !\n\n\n\n	\"Âmes créatives\, ouvertes ou curieuses\, sont co
	nviées et convoitées\"\n\n\n\n	Il vous est proposé de présenter et tes
	ter vos cartes et modes de jeu créé par vos soins sur Halo 5 Guardians.\
	n\n\n\n	Horaire : 14h - 16h\n\n\n\n	Organisateur(s) de cet événement : P
	laybox 36\n\n
DTSTART:20180429T120000Z
DTEND:20180429T140000Z
ATTENDEE;CN="Spartan Fred";CUTYPE=INDIVIDUAL;PARTSTAT=ACCEPT
	ED:noreply@halo.fr
END:VEVENT
END:VCALENDAR
