BEGIN:VCALENDAR
VERSION:2.0
PRODID:-//InvisionCommunity Events 4.7.14//EN
METHOD:PUBLISH
CALSCALE:GREGORIAN
REFRESH-INTERVAL:PT15M
X-PUBLISHED-TTL:PT15M
X-WR-CALNAME:Calendrier Communautaire
NAME:Calendrier Communautaire
BEGIN:VTIMEZONE
TZID:Europe/London
TZURL:http://tzurl.org/zoneinfo/Europe/London
X-LIC-LOCATION:Europe/London
BEGIN:DAYLIGHT
TZOFFSETFROM:+0000
TZOFFSETTO:+0100
TZNAME:BST
DTSTART:20180325T020000Z
RRULE:FREQ=YEARLY;BYMONTH=3;BYDAY=-1SU
END:DAYLIGHT
BEGIN:STANDARD
TZOFFSETFROM:+0100
TZOFFSETTO:+0000
TZNAME:GMT
DTSTART:20181028T020000Z
RRULE:FREQ=YEARLY;BYMONTH=10;BYDAY=-1SU
END:STANDARD
END:VTIMEZONE
BEGIN:VEVENT
SUMMARY:[H5] Action Sack | Halo.fr
DTSTAMP:20180105T181134Z
SEQUENCE:0
UID:636-1-b5c04f7b3f733bcbcff44af62a0d7fa1@dev.halo.fr
ORGANIZER;CN="Upper Chief":noreply@halo.fr
DESCRIPTION:\n\n	Soirée Action Sack sur Halo 5 Guardians\n\n\n\n	Oly Ol
	y Open Party !\n\n\n\n	\"Venez donc sacker vos adversaires\, l'action sera
	 de mise !\"\n\n\n\n	Nous irons sur le mode dédié en ligne ou en partie
	 personnalisée si vous le souhaitez.\n\n\n\n	Sachez également que Romani
	tou diffusera la soirée sur la chaîne Twitch et Youtube Halo FR.\n\n\n\n
		Horaire : 21h - 23h\n\n\n\n	Organisateur(s) de cet événement : Cobra MA
	JORWOLF &amp\; MajorDaan48 \n\n
DTSTART:20180122T200000Z
DTEND:20180122T220000Z
ATTENDEE;CN="Spartan Fred";CUTYPE=INDIVIDUAL;PARTSTAT=ACCEPT
	ED:noreply@halo.fr
ATTENDEE;CN="Blacklineurs";CUTYPE=INDIVIDUAL;PARTSTAT=ACCEPT
	ED:noreply@halo.fr
ATTENDEE;CN="MrTogo";CUTYPE=INDIVIDUAL;PARTSTAT=ACCEPTED:nor
	eply@halo.fr
END:VEVENT
END:VCALENDAR
