BEGIN:VCALENDAR
VERSION:2.0
PRODID:-//InvisionCommunity Events 4.7.14//EN
METHOD:PUBLISH
CALSCALE:GREGORIAN
REFRESH-INTERVAL:PT15M
X-PUBLISHED-TTL:PT15M
X-WR-CALNAME:Calendrier Communautaire
NAME:Calendrier Communautaire
BEGIN:VTIMEZONE
TZID:Europe/London
TZURL:http://tzurl.org/zoneinfo/Europe/London
X-LIC-LOCATION:Europe/London
BEGIN:DAYLIGHT
TZOFFSETFROM:+0000
TZOFFSETTO:+0100
TZNAME:BST
DTSTART:20180325T020000Z
RRULE:FREQ=YEARLY;BYMONTH=3;BYDAY=-1SU
END:DAYLIGHT
BEGIN:STANDARD
TZOFFSETFROM:+0100
TZOFFSETTO:+0000
TZNAME:GMT
DTSTART:20181028T020000Z
RRULE:FREQ=YEARLY;BYMONTH=10;BYDAY=-1SU
END:STANDARD
END:VTIMEZONE
BEGIN:VEVENT
SUMMARY:[H5] Arena | Halo.fr
DTSTAMP:20180105T180031Z
SEQUENCE:0
UID:635-1-b5c04f7b3f733bcbcff44af62a0d7fa1@dev.halo.fr
ORGANIZER;CN="Upper Chief":noreply@halo.fr
DESCRIPTION:\n\n	Soirée Arena sur Halo 5 Guardians\n\n\n\n	Oly Oly Open
	 Party !\n\n\n\n	\"En Arena\, il faut se baisser pour ramasser ses armes\,
	 alors attention au dos !\"\n\n\n\n	En fonction du nombre de participants 
	ou de vous\, nous irons en ligne ou en partie personnalisée.\n\n\n\n	Sach
	ez également que Romanitou diffusera la soirée sur la chaîne Twitch et 
	Youtube Halo FR.\n\n\n\n	Horaire : 21h - 23h\n\n\n\n	Organisateur(s) de ce
	t événement : Cobra MAJORWOLF &amp\; LGS K1ngSn1p3\n\n
DTSTART:20180129T200000Z
DTEND:20180129T220000Z
ATTENDEE;CN="Spartan Fred";CUTYPE=INDIVIDUAL;PARTSTAT=ACCEPT
	ED:noreply@halo.fr
ATTENDEE;CN="sellig1995t";CUTYPE=INDIVIDUAL;PARTSTAT=ACCEPTE
	D:noreply@halo.fr
ATTENDEE;CN="rafed_118";CUTYPE=INDIVIDUAL;PARTSTAT=ACCEPTED:
	noreply@halo.fr
ATTENDEE;CN="etienne347";CUTYPE=INDIVIDUAL;PARTSTAT=ACCEPTED
	:noreply@halo.fr
END:VEVENT
END:VCALENDAR
