BEGIN:VCALENDAR
VERSION:2.0
PRODID:-//InvisionCommunity Events 4.7.14//EN
METHOD:PUBLISH
CALSCALE:GREGORIAN
REFRESH-INTERVAL:PT15M
X-PUBLISHED-TTL:PT15M
X-WR-CALNAME:Calendrier Communautaire
NAME:Calendrier Communautaire
BEGIN:VTIMEZONE
TZID:Europe/London
TZURL:http://tzurl.org/zoneinfo/Europe/London
X-LIC-LOCATION:Europe/London
BEGIN:DAYLIGHT
TZOFFSETFROM:+0000
TZOFFSETTO:+0100
TZNAME:BST
DTSTART:20170326T020000Z
RRULE:FREQ=YEARLY;BYMONTH=3;BYDAY=-1SU
END:DAYLIGHT
BEGIN:STANDARD
TZOFFSETFROM:+0100
TZOFFSETTO:+0000
TZNAME:GMT
DTSTART:20171029T020000Z
RRULE:FREQ=YEARLY;BYMONTH=10;BYDAY=-1SU
END:STANDARD
END:VTIMEZONE
BEGIN:VEVENT
SUMMARY:Nouvel an | Halo.fr
DTSTAMP:20171130T210544Z
SEQUENCE:0
UID:626-1-b5c04f7b3f733bcbcff44af62a0d7fa1@dev.halo.fr
ORGANIZER;CN="Upper Chief":noreply@halo.fr
DESCRIPTION:\n\n	Instant Passage de la nouvelle année !\n\n\n\n	Oly Oly
	 Open Party !\n\n\n\n	\"Un moment de bonheur à passer avec ses proches\"\
	n\n\n\n	L'équipe de l'événementiel et toute l'équipe de Halo.fr vous s
	ouhaitent une bonne année 2018 et une bonne santé de fan de Halo !\n\n
	\n\n	Soyez nombreux à cet événement !\n\n\n\n	Horaire : 00h00 au 01.01
	.18\n\n\n\n	Organisateur(s) de la bise : Les courageux\n\n
DTSTART:20171231T225900Z
END:VEVENT
END:VCALENDAR
