BEGIN:VCALENDAR
VERSION:2.0
PRODID:-//InvisionCommunity Events 4.7.14//EN
METHOD:PUBLISH
CALSCALE:GREGORIAN
REFRESH-INTERVAL:PT15M
X-PUBLISHED-TTL:PT15M
X-WR-CALNAME:Calendrier Communautaire
NAME:Calendrier Communautaire
BEGIN:VTIMEZONE
TZID:Europe/London
TZURL:http://tzurl.org/zoneinfo/Europe/London
X-LIC-LOCATION:Europe/London
BEGIN:DAYLIGHT
TZOFFSETFROM:+0000
TZOFFSETTO:+0100
TZNAME:BST
DTSTART:20170326T020000Z
RRULE:FREQ=YEARLY;BYMONTH=3;BYDAY=-1SU
END:DAYLIGHT
BEGIN:STANDARD
TZOFFSETFROM:+0100
TZOFFSETTO:+0000
TZNAME:GMT
DTSTART:20171029T020000Z
RRULE:FREQ=YEARLY;BYMONTH=10;BYDAY=-1SU
END:STANDARD
END:VTIMEZONE
BEGIN:VEVENT
SUMMARY:H5 Firefight | Halo.fr
DTSTAMP:20171030T180824Z
SEQUENCE:0
UID:599-1-b5c04f7b3f733bcbcff44af62a0d7fa1@dev.halo.fr
ORGANIZER;CN="Upper Chief":noreply@halo.fr
DESCRIPTION:\n\n	Soirée Firefight sur Halo 5 Guardians\n\n\n\n	Bonjour 
	amis Spartans ou Elites\, voir même Brutes !\n\n\n\n	Venez enchaînez les
	 manches pour atteindre la victoire !\n\n\n	N'oubliez pas\, le travail d'
	équipe : c'est l'attitude à avoir en Firefight !\n\n\n\n	Horaire : 21h -
	 23h\n\n\n\n	Organisateur(s) de cet événement : LGS K1ngSn1p3\n\n
DTSTART:20171108T200000Z
DTEND:20171108T220000Z
ATTENDEE;CN="Spartan Fred";CUTYPE=INDIVIDUAL;PARTSTAT=ACCEPT
	ED:noreply@halo.fr
ATTENDEE;CN="Tealk 071";CUTYPE=INDIVIDUAL;PARTSTAT=ACCEPTED:
	noreply@halo.fr
ATTENDEE;CN="JULTIREX";CUTYPE=INDIVIDUAL;PARTSTAT=ACCEPTED:n
	oreply@halo.fr
ATTENDEE;CN="etienne347";CUTYPE=INDIVIDUAL;PARTSTAT=ACCEPTED
	:noreply@halo.fr
ATTENDEE;CN="rafed_118";CUTYPE=INDIVIDUAL;PARTSTAT=ACCEPTED:
	noreply@halo.fr
END:VEVENT
END:VCALENDAR
