BEGIN:VCALENDAR
VERSION:2.0
PRODID:-//InvisionCommunity Events 4.7.14//EN
METHOD:PUBLISH
CALSCALE:GREGORIAN
REFRESH-INTERVAL:PT15M
X-PUBLISHED-TTL:PT15M
X-WR-CALNAME:Calendrier Communautaire
NAME:Calendrier Communautaire
BEGIN:VTIMEZONE
TZID:Europe/London
TZURL:http://tzurl.org/zoneinfo/Europe/London
X-LIC-LOCATION:Europe/London
BEGIN:DAYLIGHT
TZOFFSETFROM:+0000
TZOFFSETTO:+0100
TZNAME:BST
DTSTART:20170326T020000Z
RRULE:FREQ=YEARLY;BYMONTH=3;BYDAY=-1SU
END:DAYLIGHT
BEGIN:STANDARD
TZOFFSETFROM:+0100
TZOFFSETTO:+0000
TZNAME:GMT
DTSTART:20171029T020000Z
RRULE:FREQ=YEARLY;BYMONTH=10;BYDAY=-1SU
END:STANDARD
END:VTIMEZONE
BEGIN:VEVENT
SUMMARY:Forge Challenge | Halo.fr
DTSTAMP:20170930T133949Z
SEQUENCE:0
UID:584-1-b5c04f7b3f733bcbcff44af62a0d7fa1@dev.halo.fr
ORGANIZER;CN="Upper Chief":noreply@halo.fr
DESCRIPTION:\n\n	Soirée Forge Challenge sur Halo 5 Guardians\n\n\n\n	Bo
	njour amis Spartans ou Elites\, voir même Brutes !\n\n\n\n	Voici une nouv
	elle formule préparée par Major Daan !\n\n\n\n	Venez vous amuser avec d
	ifférents mini jeux qui vous seront proposés en mode Forge.\n\n\n\n	Quel
	ques exemples de mini jeux :\n\n\n\n\n		Vous serez amené à mémoriser 
	une structure afin de la reproduire en un temps donné.\n	\n	\n		Dans un 
	délai court\, il vous sera demandé de reproduire un objet dicté oraleme
	nt.\n	\n	\n		Vous devrez deviner ce que votre amis a créé afin qu'à vo
	tre tour vous lui fassiez deviner votre création.\n	\n\n\n	Horaire : 21h 
	- 23h\n\n\n\n	Organisateur(s) de cet événement : MajorDaan48 &amp\; Play
	box 36\n\n
DTSTART:20171016T190000Z
DTEND:20171016T210000Z
ATTENDEE;CN="CaseReed";CUTYPE=INDIVIDUAL;PARTSTAT=ACCEPTED:n
	oreply@halo.fr
END:VEVENT
END:VCALENDAR
