BEGIN:VCALENDAR
VERSION:2.0
PRODID:-//InvisionCommunity Events 4.7.14//EN
METHOD:PUBLISH
CALSCALE:GREGORIAN
REFRESH-INTERVAL:PT15M
X-PUBLISHED-TTL:PT15M
X-WR-CALNAME:Calendrier Communautaire
NAME:Calendrier Communautaire
BEGIN:VTIMEZONE
TZID:Europe/London
TZURL:http://tzurl.org/zoneinfo/Europe/London
X-LIC-LOCATION:Europe/London
BEGIN:DAYLIGHT
TZOFFSETFROM:+0000
TZOFFSETTO:+0100
TZNAME:BST
DTSTART:20170326T020000Z
RRULE:FREQ=YEARLY;BYMONTH=3;BYDAY=-1SU
END:DAYLIGHT
BEGIN:STANDARD
TZOFFSETFROM:+0100
TZOFFSETTO:+0000
TZNAME:GMT
DTSTART:20171029T020000Z
RRULE:FREQ=YEARLY;BYMONTH=10;BYDAY=-1SU
END:STANDARD
END:VTIMEZONE
BEGIN:VEVENT
SUMMARY:H5 Fun | Halo.fr
DTSTAMP:20170901T155037Z
SEQUENCE:0
UID:567-1-b5c04f7b3f733bcbcff44af62a0d7fa1@dev.halo.fr
ORGANIZER;CN="Upper Chief":noreply@halo.fr
DESCRIPTION:\n\n	Soirée Fun sur Halo 5 Guardians\n\n\n\n	Bonjour amis S
	partans ou Elites\, voir même Brutes !\n\n\n\n	Fun soit-il !\n\n\n\n	Vene
	z jouer avec nous sur plein de modes délirants en Action Sack en ligne ou
	 en partie personnalisée !\n\n\n\n	Il vous est possible de proposer vos p
	ropres cartes et modes de jeu.\n\n\n\n	Horaire : 21h - 23h\n\n\n\n	Organis
	ateur(s) de cet événement : Playbox 36\n\n
DTSTART:20170923T190000Z
DTEND:20170923T210000Z
ATTENDEE;CN="Pacifique girl";CUTYPE=INDIVIDUAL;PARTSTAT=ACCE
	PTED:noreply@halo.fr
ATTENDEE;CN="Capdebos";CUTYPE=INDIVIDUAL;PARTSTAT=ACCEPTED:n
	oreply@halo.fr
ATTENDEE;CN="etienne347";CUTYPE=INDIVIDUAL;PARTSTAT=ACCEPTED
	:noreply@halo.fr
END:VEVENT
END:VCALENDAR
