BEGIN:VCALENDAR
VERSION:2.0
PRODID:-//InvisionCommunity Events 4.7.14//EN
METHOD:PUBLISH
CALSCALE:GREGORIAN
REFRESH-INTERVAL:PT15M
X-PUBLISHED-TTL:PT15M
X-WR-CALNAME:Calendrier Communautaire
NAME:Calendrier Communautaire
BEGIN:VTIMEZONE
TZID:Europe/London
TZURL:http://tzurl.org/zoneinfo/Europe/London
X-LIC-LOCATION:Europe/London
BEGIN:DAYLIGHT
TZOFFSETFROM:+0000
TZOFFSETTO:+0100
TZNAME:BST
DTSTART:20170326T020000Z
RRULE:FREQ=YEARLY;BYMONTH=3;BYDAY=-1SU
END:DAYLIGHT
BEGIN:STANDARD
TZOFFSETFROM:+0100
TZOFFSETTO:+0000
TZNAME:GMT
DTSTART:20171029T020000Z
RRULE:FREQ=YEARLY;BYMONTH=10;BYDAY=-1SU
END:STANDARD
END:VTIMEZONE
BEGIN:VEVENT
SUMMARY:Arena | Halo.fr
DTSTAMP:20170702T114530Z
SEQUENCE:0
UID:536-1-b5c04f7b3f733bcbcff44af62a0d7fa1@dev.halo.fr
ORGANIZER;CN="Upper Chief":noreply@halo.fr
DESCRIPTION:\n\n	Soirée Arena sur Halo 5 Guardians\n\n\n\n	Bonjour amis
	 Spartans ou Elites\, voir même Brutes !\n\n\n\n	En Arena\, il faut aller
	 ramasser ses armes !\n\n\n\n	En fonction du nombre de participants ou de
	 vous\, nous irons en ligne ou en partie personnalisée.\n\n\n\n	Sachez é
	galement que Romanitou diffusera la soirée sur la chaîne Twitch et Yout
	ube Halo FR.\n\n\n\n	Horaire : 21h - 23h\n\n\n\n	Organisateur(s) de cet 
	événement : Romanitou &amp\; Zharvest\n\n\n\n	Zharvest est un animateur
	 à l'essai\, il est prêt à prendre de son temps pour vous la communaut
	é !\n\n
DTSTART:20170717T190000Z
DTEND:20170717T210000Z
ATTENDEE;CN="xavanne1999";CUTYPE=INDIVIDUAL;PARTSTAT=ACCEPTE
	D:noreply@halo.fr
ATTENDEE;CN="etienne347";CUTYPE=INDIVIDUAL;PARTSTAT=ACCEPTED
	:noreply@halo.fr
ATTENDEE;CN="Ahkris Spac";CUTYPE=INDIVIDUAL;PARTSTAT=ACCEPTE
	D:noreply@halo.fr
ATTENDEE;CN="ArKer NeXus";CUTYPE=INDIVIDUAL;PARTSTAT=ACCEPTE
	D:noreply@halo.fr
ATTENDEE;CN="Luc44044";CUTYPE=INDIVIDUAL;PARTSTAT=ACCEPTED:n
	oreply@halo.fr
ATTENDEE;CN="Preda";CUTYPE=INDIVIDUAL;PARTSTAT=ACCEPTED:nore
	ply@halo.fr
END:VEVENT
END:VCALENDAR
