BEGIN:VCALENDAR
VERSION:2.0
PRODID:-//InvisionCommunity Events 4.7.14//EN
METHOD:PUBLISH
CALSCALE:GREGORIAN
REFRESH-INTERVAL:PT15M
X-PUBLISHED-TTL:PT15M
X-WR-CALNAME:Calendrier Communautaire
NAME:Calendrier Communautaire
BEGIN:VTIMEZONE
TZID:Europe/London
TZURL:http://tzurl.org/zoneinfo/Europe/London
X-LIC-LOCATION:Europe/London
BEGIN:DAYLIGHT
TZOFFSETFROM:+0000
TZOFFSETTO:+0100
TZNAME:BST
DTSTART:20170326T020000Z
RRULE:FREQ=YEARLY;BYMONTH=3;BYDAY=-1SU
END:DAYLIGHT
BEGIN:STANDARD
TZOFFSETFROM:+0100
TZOFFSETTO:+0000
TZNAME:GMT
DTSTART:20171029T020000Z
RRULE:FREQ=YEARLY;BYMONTH=10;BYDAY=-1SU
END:STANDARD
END:VTIMEZONE
BEGIN:VEVENT
SUMMARY:BTB | Halo.fr
DTSTAMP:20170701T073801Z
SEQUENCE:0
UID:531-1-b5c04f7b3f733bcbcff44af62a0d7fa1@dev.halo.fr
ORGANIZER;CN="Upper Chief":noreply@halo.fr
DESCRIPTION:\n\n	Soirée BTB sur Halo 5 Guardians\n\n\n\n	Bonjour amis S
	partans ou Elites\, voir même Brutes !\n\n\n\n	On vous propose à nouveau
	 un événement dédié au Big Team Battle sur Halo 5 Guardians !\n\n\n\n	
	Il est a noté que si nous sommes jusqu'à huit joueurs\, le BTB en ligne 
	sera le bienvenue. Si nous sommes au-delà de huit joueurs\, nous irons di
	rectement en partie personnalisée.\n\n\n\n	Horaire : 21h - 23h\n\n\n\n	Or
	ganisateur(s) de cet événement : HFr Upper Chief\n\n
DTSTART:20170706T190000Z
DTEND:20170706T210000Z
ATTENDEE;CN="Cyrille";CUTYPE=INDIVIDUAL;PARTSTAT=ACCEPTED:no
	reply@halo.fr
ATTENDEE;CN="xavanne1999";CUTYPE=INDIVIDUAL;PARTSTAT=ACCEPTE
	D:noreply@halo.fr
END:VEVENT
END:VCALENDAR
