BEGIN:VCALENDAR
VERSION:2.0
PRODID:-//InvisionCommunity Events 4.7.14//EN
METHOD:PUBLISH
CALSCALE:GREGORIAN
REFRESH-INTERVAL:PT15M
X-PUBLISHED-TTL:PT15M
X-WR-CALNAME:Calendrier Communautaire
NAME:Calendrier Communautaire
BEGIN:VTIMEZONE
TZID:Europe/London
TZURL:http://tzurl.org/zoneinfo/Europe/London
X-LIC-LOCATION:Europe/London
BEGIN:DAYLIGHT
TZOFFSETFROM:+0000
TZOFFSETTO:+0100
TZNAME:BST
DTSTART:20170326T020000Z
RRULE:FREQ=YEARLY;BYMONTH=3;BYDAY=-1SU
END:DAYLIGHT
BEGIN:STANDARD
TZOFFSETFROM:+0100
TZOFFSETTO:+0000
TZNAME:GMT
DTSTART:20171029T020000Z
RRULE:FREQ=YEARLY;BYMONTH=10;BYDAY=-1SU
END:STANDARD
END:VTIMEZONE
BEGIN:VEVENT
SUMMARY:Infection | Halo.fr
DTSTAMP:20170701T073407Z
SEQUENCE:0
UID:530-1-b5c04f7b3f733bcbcff44af62a0d7fa1@dev.halo.fr
ORGANIZER;CN="Upper Chief":noreply@halo.fr
DESCRIPTION:\n\n	Soirée Infection sur Halo 5 Guardians\n\n\n\n	Bonjour 
	amis Spartans ou Elites\, voir même Brutes !\n\n\n\n	Ça vous dit quelque
	 chose : \"Dernier survivant\" ?\n\n\n\n	Si vous avez des cartes d'infecti
	on\, pensez à les proposer !\n\n\n\n	Horaire : 21h - 23h\n\n\n\n	Organisa
	teur(s) de cet événement : HFr Upper Chief &amp\; Zharvest\n\n\n\n	Zharv
	est est un animateur à l'essai\, il est prêt à prendre de son temps pou
	r vous la communauté !\n\n
DTSTART:20170705T190000Z
DTEND:20170705T210000Z
ATTENDEE;CN="xavanne1999";CUTYPE=INDIVIDUAL;PARTSTAT=ACCEPTE
	D:noreply@halo.fr
ATTENDEE;CN="Cyrille";CUTYPE=INDIVIDUAL;PARTSTAT=ACCEPTED:no
	reply@halo.fr
ATTENDEE;CN="Guillaume Tejedor";CUTYPE=INDIVIDUAL;PARTSTAT=A
	CCEPTED:noreply@halo.fr
ATTENDEE;CN="etienne347";CUTYPE=INDIVIDUAL;PARTSTAT=ACCEPTED
	:noreply@halo.fr
END:VEVENT
END:VCALENDAR
