BEGIN:VCALENDAR
VERSION:2.0
PRODID:-//InvisionCommunity Events 4.7.14//EN
METHOD:PUBLISH
CALSCALE:GREGORIAN
REFRESH-INTERVAL:PT15M
X-PUBLISHED-TTL:PT15M
X-WR-CALNAME:Calendrier Communautaire
NAME:Calendrier Communautaire
BEGIN:VTIMEZONE
TZID:Europe/London
TZURL:http://tzurl.org/zoneinfo/Europe/London
X-LIC-LOCATION:Europe/London
BEGIN:DAYLIGHT
TZOFFSETFROM:+0000
TZOFFSETTO:+0100
TZNAME:BST
DTSTART:20170326T020000Z
RRULE:FREQ=YEARLY;BYMONTH=3;BYDAY=-1SU
END:DAYLIGHT
BEGIN:STANDARD
TZOFFSETFROM:+0100
TZOFFSETTO:+0000
TZNAME:GMT
DTSTART:20171029T020000Z
RRULE:FREQ=YEARLY;BYMONTH=10;BYDAY=-1SU
END:STANDARD
END:VTIMEZONE
BEGIN:VEVENT
SUMMARY:Concours Forge | Halo.fr
DTSTAMP:20170501T114823Z
SEQUENCE:0
UID:486-1-b5c04f7b3f733bcbcff44af62a0d7fa1@dev.halo.fr
ORGANIZER;CN="Upper Chief":noreply@halo.fr
DESCRIPTION:\n\n	Soirée Concours Forge\n\n\n\n	Bonjour amis Spartans (o
	u Elites) !\n\n\n\n	Voici le premier événement pour le Concours Forge d'
	Avril 2017.\n\n\n\n	Venez jouer sur les cartes proposées par les particip
	ants du concours !\n\n\n\n	Tous les renseignements complémentaires sont
	 à retrouver sur l'article dédié ici-même.\n\n\n\n	Sachez également q
	ue Romanitou diffusera la soirée sur la chaîne HaloFR.\n\n\n\n	Horaire :
	 21h - 23h\n\n\n\n	Organisateur(s) de cet événement : Playbox 36\, Erydh
	il\, HFR Banta &amp\; Romanitou\n\n
DTSTART:20170519T190000Z
DTEND:20170519T210000Z
ATTENDEE;CN="angelot1";CUTYPE=INDIVIDUAL;PARTSTAT=ACCEPTED:n
	oreply@halo.fr
END:VEVENT
END:VCALENDAR
