BEGIN:VCALENDAR
VERSION:2.0
PRODID:-//InvisionCommunity Events 4.7.14//EN
METHOD:PUBLISH
CALSCALE:GREGORIAN
REFRESH-INTERVAL:PT15M
X-PUBLISHED-TTL:PT15M
X-WR-CALNAME:Calendrier Communautaire
NAME:Calendrier Communautaire
BEGIN:VTIMEZONE
TZID:Europe/London
TZURL:http://tzurl.org/zoneinfo/Europe/London
X-LIC-LOCATION:Europe/London
BEGIN:DAYLIGHT
TZOFFSETFROM:+0000
TZOFFSETTO:+0100
TZNAME:BST
DTSTART:20170326T020000Z
RRULE:FREQ=YEARLY;BYMONTH=3;BYDAY=-1SU
END:DAYLIGHT
BEGIN:STANDARD
TZOFFSETFROM:+0100
TZOFFSETTO:+0000
TZNAME:GMT
DTSTART:20171029T020000Z
RRULE:FREQ=YEARLY;BYMONTH=10;BYDAY=-1SU
END:STANDARD
END:VTIMEZONE
BEGIN:VEVENT
SUMMARY:Halo TMCC | Halo.fr
DTSTAMP:20170501T111904Z
SEQUENCE:0
UID:480-1-b5c04f7b3f733bcbcff44af62a0d7fa1@dev.halo.fr
ORGANIZER;CN="Upper Chief":noreply@halo.fr
DESCRIPTION:\n\n	Soirée Halo TMCC\n\n\n\n	Bonjour amis Spartans (ou Eli
	tes) !\n\n\n\n	Nostalgiqueresquement et exclusiveresquement !\n\n\n\n	Vene
	z tâter du multijoueur (en général) de la Master Chief Collection !\n\n
	\n\n	En fonction du nombre de personne\, nous irons en ligne ou en partie 
	personnalisée.\n\n\n\n	Sachez également que Romanitou diffusera la soir
	ée sur la chaîne HaloFR.\n\n\n\n	Horaire : 21h - 23h\n\n\n\n	Organisateu
	r(s) de cet événement : Borjoyzee 13 &amp\; Romanitou\n\n
DTSTART:20170517T190000Z
DTEND:20170517T210000Z
ATTENDEE;CN="Alex98";CUTYPE=INDIVIDUAL;PARTSTAT=ACCEPTED:nor
	eply@halo.fr
ATTENDEE;CN="maddchadd";CUTYPE=INDIVIDUAL;PARTSTAT=ACCEPTED:
	noreply@halo.fr
ATTENDEE;CN="sellig1995t";CUTYPE=INDIVIDUAL;PARTSTAT=ACCEPTE
	D:noreply@halo.fr
ATTENDEE;CN="DisizNerDz77";CUTYPE=INDIVIDUAL;PARTSTAT=ACCEPT
	ED:noreply@halo.fr
END:VEVENT
END:VCALENDAR
