BEGIN:VCALENDAR
VERSION:2.0
PRODID:-//InvisionCommunity Events 4.7.14//EN
METHOD:PUBLISH
CALSCALE:GREGORIAN
REFRESH-INTERVAL:PT15M
X-PUBLISHED-TTL:PT15M
X-WR-CALNAME:Calendrier Communautaire
NAME:Calendrier Communautaire
BEGIN:VTIMEZONE
TZID:Europe/London
TZURL:http://tzurl.org/zoneinfo/Europe/London
X-LIC-LOCATION:Europe/London
BEGIN:DAYLIGHT
TZOFFSETFROM:+0000
TZOFFSETTO:+0100
TZNAME:BST
DTSTART:20170326T020000Z
RRULE:FREQ=YEARLY;BYMONTH=3;BYDAY=-1SU
END:DAYLIGHT
BEGIN:STANDARD
TZOFFSETFROM:+0100
TZOFFSETTO:+0000
TZNAME:GMT
DTSTART:20171029T020000Z
RRULE:FREQ=YEARLY;BYMONTH=10;BYDAY=-1SU
END:STANDARD
END:VTIMEZONE
BEGIN:VEVENT
SUMMARY:H5 Campagne | Halo.fr
DTSTAMP:20170228T212640Z
SEQUENCE:0
UID:446-1-b5c04f7b3f733bcbcff44af62a0d7fa1@dev.halo.fr
ORGANIZER;CN="Upper Chief":noreply@halo.fr
DESCRIPTION:\n\n	Soirée H5 Campagne\n\n\n\n	Bonjour amis Spartans (ou E
	lites) !\n\n\n\n	Il vous manque des succès dans la campagne ? Vous voulez
	 simplement déguster la campagne ?\n\n	Venez sur la campagne de Halo 5 Gu
	ardians.\n\n\n\n	Horaire : 21h - 23h\n\n\n\n	Organisateur(s) de cet évén
	ement : LGS K1ngSn1p3\n\n
DTSTART:20170329T190000Z
DTEND:20170329T210000Z
ATTENDEE;CN="lewinerdu59";CUTYPE=INDIVIDUAL;PARTSTAT=ACCEPTE
	D:noreply@halo.fr
ATTENDEE;CN="SpartanBen057";CUTYPE=INDIVIDUAL;PARTSTAT=ACCEP
	TED:noreply@halo.fr
ATTENDEE;CN="Davaab";CUTYPE=INDIVIDUAL;PARTSTAT=ACCEPTED:nor
	eply@halo.fr
ATTENDEE;CN="etienne347";CUTYPE=INDIVIDUAL;PARTSTAT=ACCEPTED
	:noreply@halo.fr
ATTENDEE;CN="GORET49";CUTYPE=INDIVIDUAL;PARTSTAT=ACCEPTED:no
	reply@halo.fr
ATTENDEE;CN="faucongg";CUTYPE=INDIVIDUAL;PARTSTAT=ACCEPTED:n
	oreply@halo.fr
END:VEVENT
END:VCALENDAR
