BEGIN:VCALENDAR
VERSION:2.0
PRODID:-//InvisionCommunity Events 4.7.14//EN
METHOD:PUBLISH
CALSCALE:GREGORIAN
REFRESH-INTERVAL:PT15M
X-PUBLISHED-TTL:PT15M
X-WR-CALNAME:Calendrier Communautaire
NAME:Calendrier Communautaire
BEGIN:VTIMEZONE
TZID:Europe/London
TZURL:http://tzurl.org/zoneinfo/Europe/London
X-LIC-LOCATION:Europe/London
BEGIN:DAYLIGHT
TZOFFSETFROM:+0000
TZOFFSETTO:+0100
TZNAME:BST
DTSTART:20170326T020000Z
RRULE:FREQ=YEARLY;BYMONTH=3;BYDAY=-1SU
END:DAYLIGHT
BEGIN:STANDARD
TZOFFSETFROM:+0100
TZOFFSETTO:+0000
TZNAME:GMT
DTSTART:20171029T020000Z
RRULE:FREQ=YEARLY;BYMONTH=10;BYDAY=-1SU
END:STANDARD
END:VTIMEZONE
BEGIN:VEVENT
SUMMARY:Warzone | Halo.fr
DTSTAMP:20170228T204849Z
SEQUENCE:0
UID:438-1-b5c04f7b3f733bcbcff44af62a0d7fa1@dev.halo.fr
ORGANIZER;CN="Upper Chief":noreply@halo.fr
DESCRIPTION:\n\n	Soirée Warzone\n\n\n\n	Bonjour amis Spartans (ou Elite
	s) !\n\n\n\n	On ne peut pas s'en passer\, alors on en remet encore !\n\n\n
	\n	Le Warzone étant limité depuis quelques mois à 6 joueurs en équipe 
	et le Warzone Assault à 8 joueurs. Les événements de Warzone sont l
	imités à 7 joueurs par groupe jusqu'à nouvel ordre.\n\n\n\n	Veuillez s
	tipuler dans un commentaire si vous venez jouer avec un ou plusieurs amis\
	, de façon à ce que nous en prenions compte lors d'une éventuelle créa
	tion de groupes.\n\n\n\n	Horaire : 21h - 23h\n\n\n\n	Organisateur(s) de ce
	t événement : HFR Dydjje &amp\; LGS K1ngSn1p3\n\n
DTSTART:20170308T200000Z
DTEND:20170308T220000Z
ATTENDEE;CN="Alex98";CUTYPE=INDIVIDUAL;PARTSTAT=ACCEPTED:nor
	eply@halo.fr
ATTENDEE;CN="faucongg";CUTYPE=INDIVIDUAL;PARTSTAT=ACCEPTED:n
	oreply@halo.fr
ATTENDEE;CN="Stanarchy555";CUTYPE=INDIVIDUAL;PARTSTAT=ACCEPT
	ED:noreply@halo.fr
ATTENDEE;CN="VAC spartan";CUTYPE=INDIVIDUAL;PARTSTAT=ACCEPTE
	D:noreply@halo.fr
END:VEVENT
END:VCALENDAR
