BEGIN:VCALENDAR
VERSION:2.0
PRODID:-//InvisionCommunity Events 4.7.14//EN
METHOD:PUBLISH
CALSCALE:GREGORIAN
REFRESH-INTERVAL:PT15M
X-PUBLISHED-TTL:PT15M
X-WR-CALNAME:Calendrier Communautaire
NAME:Calendrier Communautaire
BEGIN:VTIMEZONE
TZID:Europe/London
TZURL:http://tzurl.org/zoneinfo/Europe/London
X-LIC-LOCATION:Europe/London
BEGIN:DAYLIGHT
TZOFFSETFROM:+0000
TZOFFSETTO:+0100
TZNAME:BST
DTSTART:20170326T020000Z
RRULE:FREQ=YEARLY;BYMONTH=3;BYDAY=-1SU
END:DAYLIGHT
BEGIN:STANDARD
TZOFFSETFROM:+0100
TZOFFSETTO:+0000
TZNAME:GMT
DTSTART:20171029T020000Z
RRULE:FREQ=YEARLY;BYMONTH=10;BYDAY=-1SU
END:STANDARD
END:VTIMEZONE
BEGIN:VEVENT
SUMMARY:Aprèm' Forge | Halo.fr
DTSTAMP:20170131T180818Z
SEQUENCE:0
UID:413-1-b5c04f7b3f733bcbcff44af62a0d7fa1@dev.halo.fr
ORGANIZER;CN="Upper Chief":noreply@halo.fr
DESCRIPTION:\n\n	Bonjour amis Spartans (ou Elites) !\n\n\n\n	Vous avez f
	orcément des cartes à breveter !?!\n\n\n\n	Il vous est proposé de prés
	enter vos cartes et modes de jeu créé par vos soins sur Halo 5 Guardians
	.\n\n\n\n	Horaire : 14h - 17h\n\n\n\n	Organisateur(s) de cet événement :
	 Playbox 36\n\n
DTSTART:20170219T130000Z
DTEND:20170219T160000Z
ATTENDEE;CN="sellig1995t";CUTYPE=INDIVIDUAL;PARTSTAT=ACCEPTE
	D:noreply@halo.fr
ATTENDEE;CN="CChasseurDeTete";CUTYPE=INDIVIDUAL;PARTSTAT=ACC
	EPTED:noreply@halo.fr
ATTENDEE;CN="Capdebos";CUTYPE=INDIVIDUAL;PARTSTAT=ACCEPTED:n
	oreply@halo.fr
ATTENDEE;CN="Léochuck";CUTYPE=INDIVIDUAL;PARTSTAT=ACCEPTED:
	noreply@halo.fr
END:VEVENT
END:VCALENDAR
