BEGIN:VCALENDAR
VERSION:2.0
PRODID:-//InvisionCommunity Events 4.7.14//EN
METHOD:PUBLISH
CALSCALE:GREGORIAN
REFRESH-INTERVAL:PT15M
X-PUBLISHED-TTL:PT15M
X-WR-CALNAME:Calendrier Communautaire
NAME:Calendrier Communautaire
BEGIN:VTIMEZONE
TZID:Europe/London
TZURL:http://tzurl.org/zoneinfo/Europe/London
X-LIC-LOCATION:Europe/London
BEGIN:DAYLIGHT
TZOFFSETFROM:+0000
TZOFFSETTO:+0100
TZNAME:BST
DTSTART:20170326T020000Z
RRULE:FREQ=YEARLY;BYMONTH=3;BYDAY=-1SU
END:DAYLIGHT
BEGIN:STANDARD
TZOFFSETFROM:+0100
TZOFFSETTO:+0000
TZNAME:GMT
DTSTART:20171029T020000Z
RRULE:FREQ=YEARLY;BYMONTH=10;BYDAY=-1SU
END:STANDARD
END:VTIMEZONE
BEGIN:VEVENT
SUMMARY:Play for Fun | Halo.fr
DTSTAMP:20170103T181729Z
SEQUENCE:0
UID:399-1-b5c04f7b3f733bcbcff44af62a0d7fa1@dev.halo.fr
ORGANIZER;CN="Upper Chief":noreply@halo.fr
DESCRIPTION:\n\n	Bonjour amis Spartans (ou Elites) !\n\n\n\n	MajorDaan v
	ous donne le bienvenue pour la Saison 2 de Play For Fun où vous trouverez
	 un grand nombres de nouveautés glaçantes. Et comme toujours\, ultra ryt
	hmée pour que l'amusement et la détente soient au rendez vous !\n\n\n\n	
	Pour rappel\, cet événement spécial sur Halo 5 Guardians consiste à jo
	uer dans de nombreux modes différents avec des nouveautés régulières e
	t cela en partie personnalisée.\n\n\n\n	Voici le programme de la saison 2
	 :\n\n\n\n	-Mini Game\n\n	-Halo rally\n\n	-Infection\n\n	-Griffbal\n\n	-Bi
	g Team Battle\n\n	-Winter Set Game\n\n\n\n	Il vous est possible\, bien ent
	endu\, de proposer vos propres cartes et modes de jeu via les commentaires
	 ci-dessous. Elle seront proposés durant les prochains événements Play 
	for Fun et mis en évidence ici même.\n\n\n\n	→ Leviatan094 à proposer
	 sa carte \"Joyeux Noël\". On vous encourage à faire de même !\n\n\n\n	
	\n		\n	\n\n\n\n	\n\n	En cas de grosse affluence de votre part\, des groupe
	s seront mis en place. Et surtout\, soyez indulgent lors de la création d
	e ceux-ci !\n\n	Veuillez stipuler dans un commentaire si vous venez jouer 
	avec un ou plusieurs amis\, de façon à ce que nous en prenions compte lo
	rs d'une éventuelle création de groupes.\n\n\n\n	Horaire : 21h - 23h\n\n
	\n\n	Organisateur(s) de cet événement : MajorDaan48\, Romanitou &amp\; P
	laybox 36\n\n\n\n	Romanitou est un animateur à l'essai\, il est prêt à 
	prendre de son temps pour vous la communauté !\n\n
DTSTART:20170126T200000Z
DTEND:20170126T220000Z
ATTENDEE;CN="Sky Pleiades";CUTYPE=INDIVIDUAL;PARTSTAT=ACCEPT
	ED:noreply@halo.fr
ATTENDEE;CN="sellig1995t";CUTYPE=INDIVIDUAL;PARTSTAT=ACCEPTE
	D:noreply@halo.fr
ATTENDEE;CN="Capdebos";CUTYPE=INDIVIDUAL;PARTSTAT=ACCEPTED:n
	oreply@halo.fr
ATTENDEE;CN="Replicolas";CUTYPE=INDIVIDUAL;PARTSTAT=ACCEPTED
	:noreply@halo.fr
ATTENDEE;CN="Spartan Fred";CUTYPE=INDIVIDUAL;PARTSTAT=ACCEPT
	ED:noreply@halo.fr
ATTENDEE;CN="Nova";CUTYPE=INDIVIDUAL;PARTSTAT=ACCEPTED:norep
	ly@halo.fr
ATTENDEE;CN="RIP DeEUS";CUTYPE=INDIVIDUAL;PARTSTAT=ACCEPTED:
	noreply@halo.fr
ATTENDEE;CN="SamaKutraa";CUTYPE=INDIVIDUAL;PARTSTAT=ACCEPTED
	:noreply@halo.fr
ATTENDEE;CN="Banta";CUTYPE=INDIVIDUAL;PARTSTAT=ACCEPTED:nore
	ply@halo.fr
ATTENDEE;CN="Ballespace";CUTYPE=INDIVIDUAL;PARTSTAT=ACCEPTED
	:noreply@halo.fr
ATTENDEE;CN="Stanarchy555";CUTYPE=INDIVIDUAL;PARTSTAT=ACCEPT
	ED:noreply@halo.fr
END:VEVENT
END:VCALENDAR
