BEGIN:VCALENDAR
VERSION:2.0
PRODID:-//InvisionCommunity Events 4.7.14//EN
METHOD:PUBLISH
CALSCALE:GREGORIAN
REFRESH-INTERVAL:PT15M
X-PUBLISHED-TTL:PT15M
X-WR-CALNAME:Calendrier Communautaire
NAME:Calendrier Communautaire
BEGIN:VTIMEZONE
TZID:Europe/London
TZURL:http://tzurl.org/zoneinfo/Europe/London
X-LIC-LOCATION:Europe/London
BEGIN:DAYLIGHT
TZOFFSETFROM:+0000
TZOFFSETTO:+0100
TZNAME:BST
DTSTART:20150329T020000Z
RRULE:FREQ=YEARLY;BYMONTH=3;BYDAY=-1SU
END:DAYLIGHT
BEGIN:STANDARD
TZOFFSETFROM:+0100
TZOFFSETTO:+0000
TZNAME:GMT
DTSTART:20151025T020000Z
RRULE:FREQ=YEARLY;BYMONTH=10;BYDAY=-1SU
END:STANDARD
END:VTIMEZONE
BEGIN:VEVENT
SUMMARY:Soirée Breakout Halo.Fr
DTSTAMP:20151019T212639Z
SEQUENCE:0
UID:33-1-b5c04f7b3f733bcbcff44af62a0d7fa1@dev.halo.fr
ORGANIZER;CN="Intro":noreply@halo.fr
DESCRIPTION:\n\n\n	Bonjour amis Spartans\, \n\n\n\n\n\n\n\n	Nous nous re
	trouverons pour une soirée Breakout.\n\n\n\n\n\n\n\n	Ce mode sera jouer e
	n Elimination et en CTF.\n\n\n\n\n\n\n\n	Sans bouclier\, la précision et 
	le travail d'équipe seront vos seuls atouts pour remporter la partie.\n\n
	\n\n\n\n\n\n	Bon jeu et à très vite.\n\n\n
DTSTART:20151109T200000Z
DTEND:20151109T220000Z
END:VEVENT
END:VCALENDAR
