BEGIN:VCALENDAR
VERSION:2.0
PRODID:-//InvisionCommunity Events 4.7.14//EN
METHOD:PUBLISH
CALSCALE:GREGORIAN
REFRESH-INTERVAL:PT15M
X-PUBLISHED-TTL:PT15M
X-WR-CALNAME:Calendrier Communautaire
NAME:Calendrier Communautaire
BEGIN:VTIMEZONE
TZID:Europe/London
TZURL:http://tzurl.org/zoneinfo/Europe/London
X-LIC-LOCATION:Europe/London
BEGIN:DAYLIGHT
TZOFFSETFROM:+0000
TZOFFSETTO:+0100
TZNAME:BST
DTSTART:20160327T020000Z
RRULE:FREQ=YEARLY;BYMONTH=3;BYDAY=-1SU
END:DAYLIGHT
BEGIN:STANDARD
TZOFFSETFROM:+0100
TZOFFSETTO:+0000
TZNAME:GMT
DTSTART:20161030T020000Z
RRULE:FREQ=YEARLY;BYMONTH=10;BYDAY=-1SU
END:STANDARD
END:VTIMEZONE
BEGIN:VEVENT
SUMMARY:Event Firefight
DTSTAMP:20160914T125015Z
SEQUENCE:0
UID:270-1-b5c04f7b3f733bcbcff44af62a0d7fa1@dev.halo.fr
ORGANIZER;CN="Intro":noreply@halo.fr
DESCRIPTION:\n\n	Bonjour amis Spartans.\n\n\n\n	INSCRIPTIONS TERMINEES\n
	\n\n\n	Bienvenue sur cet événement Firefight qui se déroulera le Samedi
	 01 Octobre de 14h à 18h.\n\n\n\n	Vidéo explicative : \n\n\n\n	\n		\n	\n
	\n\n\n	 \n\n\n\n	Le but sera de gagner une partie complète le plus rapid
	ement possible.\n\n\n\n	Pour prouver votre temps de partie\, vous devrez f
	aire une capture d'écran du tableau des scores qui apparait à la fin de 
	la partie. (appuyer deux fois rapidement sur le bouton Xbox de votre manet
	te et appuyer sur Y) Sans capture d'écran\, le temps ne sera pas pris en 
	compte.\n\n\n\n	Entre 14h et 18h vous pourrez commencer autant de partie q
	ue vous voudrez pour mener à bien l'objectif de cet événement mais à 1
	8h pile si votre partie n'est pas terminée\, elle ne sera pas comptabili
	sée. (donc attention si vous relancez une partir à 17h45  )\n\n\n\n	Pour
	 vous inscrire\, il suffit de cliquer sur je participe en haut à gauche .
	... et si vous voulez vous inscrire à plusieurs\, merci de me laisser en 
	commentaire ci dessous la liste de vos gamertags.\n\n\n\n	Les équipes d
	éjà constituées de 8 joueurs sont les bienvenues\, si vous êtes solo\,
	 ne vous inquiétez pas\, inscrivez vous car je constituerai des équipes
	 à la fin des inscriptions.\n\n\n\n	 \n\n\n\n	Vous pouvez vous inscrire
	 à cet événement jusqu'au 30 Septembre inclus.\n\n
DTSTART:20161001T190000Z
DTEND:20161001T210000Z
ATTENDEE;CN="Intro";CUTYPE=INDIVIDUAL;PARTSTAT=ACCEPTED:nore
	ply@halo.fr
ATTENDEE;CN="Spartan Fred";CUTYPE=INDIVIDUAL;PARTSTAT=ACCEPT
	ED:noreply@halo.fr
ATTENDEE;CN="D4mingFR";CUTYPE=INDIVIDUAL;PARTSTAT=ACCEPTED:n
	oreply@halo.fr
ATTENDEE;CN="CYRIL71710";CUTYPE=INDIVIDUAL;PARTSTAT=ACCEPTED
	:noreply@halo.fr
ATTENDEE;CN="Fortafy";CUTYPE=INDIVIDUAL;PARTSTAT=ACCEPTED:no
	reply@halo.fr
ATTENDEE;CN="Lagiaking";CUTYPE=INDIVIDUAL;PARTSTAT=ACCEPTED:
	noreply@halo.fr
ATTENDEE;CN="Titi1307";CUTYPE=INDIVIDUAL;PARTSTAT=ACCEPTED:n
	oreply@halo.fr
END:VEVENT
END:VCALENDAR
