BEGIN:VCALENDAR
VERSION:2.0
PRODID:-//InvisionCommunity Events 4.7.14//EN
METHOD:PUBLISH
CALSCALE:GREGORIAN
REFRESH-INTERVAL:PT15M
X-PUBLISHED-TTL:PT15M
X-WR-CALNAME:Calendrier Communautaire
NAME:Calendrier Communautaire
BEGIN:VTIMEZONE
TZID:Europe/London
TZURL:http://tzurl.org/zoneinfo/Europe/London
X-LIC-LOCATION:Europe/London
BEGIN:DAYLIGHT
TZOFFSETFROM:+0000
TZOFFSETTO:+0100
TZNAME:BST
DTSTART:20160327T020000Z
RRULE:FREQ=YEARLY;BYMONTH=3;BYDAY=-1SU
END:DAYLIGHT
BEGIN:STANDARD
TZOFFSETFROM:+0100
TZOFFSETTO:+0000
TZNAME:GMT
DTSTART:20161030T020000Z
RRULE:FREQ=YEARLY;BYMONTH=10;BYDAY=-1SU
END:STANDARD
END:VTIMEZONE
BEGIN:VEVENT
SUMMARY:Soirée Fun Halo.fr
DTSTAMP:20160701T153600Z
SEQUENCE:0
UID:226-1-b5c04f7b3f733bcbcff44af62a0d7fa1@dev.halo.fr
ORGANIZER;CN="Upper Chief":noreply@halo.fr
DESCRIPTION:\n\n	Bonjour amis Spartans (ou Elites) !\n\n\n\n	Fun soit-il
	 !\n\n\n\n	On vous invite à venir avec des maps forgées et des modes per
	sonnalisés\, de façon à profiter un maximum !\n\n\n\n	De plus\, il vous
	 est demandé de garder une ambiance calme et correcte lors de cet événe
	ment.\n\n\n\n	Horaire : 21h - 23h\n\n\n\n	Organisateur(s) de cet événeme
	nt : Playbox 36 &amp\; MrOhrion\n\n
DTSTART:20160722T190000Z
DTEND:20160722T210000Z
ATTENDEE;CN="Sky Pleiades";CUTYPE=INDIVIDUAL;PARTSTAT=ACCEPT
	ED:noreply@halo.fr
ATTENDEE;CN="Spartan Fred";CUTYPE=INDIVIDUAL;PARTSTAT=ACCEPT
	ED:noreply@halo.fr
ATTENDEE;CN="Gabi Gaming";CUTYPE=INDIVIDUAL;PARTSTAT=ACCEPTE
	D:noreply@halo.fr
ATTENDEE;CN="este117";CUTYPE=INDIVIDUAL;PARTSTAT=ACCEPTED:no
	reply@halo.fr
ATTENDEE;CN="Spartanoli2000";CUTYPE=INDIVIDUAL;PARTSTAT=ACCE
	PTED:noreply@halo.fr
ATTENDEE;CN="ASCO LIG 117";CUTYPE=INDIVIDUAL;PARTSTAT=ACCEPT
	ED:noreply@halo.fr
ATTENDEE;CN="TheScarcrow2507";CUTYPE=INDIVIDUAL;PARTSTAT=ACC
	EPTED:noreply@halo.fr
ATTENDEE;CN="masterjulien";CUTYPE=INDIVIDUAL;PARTSTAT=ACCEPT
	ED:noreply@halo.fr
ATTENDEE;CN="Drago-Nightmare";CUTYPE=INDIVIDUAL;PARTSTAT=ACC
	EPTED:noreply@halo.fr
ATTENDEE;CN="Lagiaking";CUTYPE=INDIVIDUAL;PARTSTAT=ACCEPTED:
	noreply@halo.fr
ATTENDEE;CN="Gae7";CUTYPE=INDIVIDUAL;PARTSTAT=ACCEPTED:norep
	ly@halo.fr
ATTENDEE;CN="enderhalo117";CUTYPE=INDIVIDUAL;PARTSTAT=ACCEPT
	ED:noreply@halo.fr
ATTENDEE;CN="MajorDaan48";CUTYPE=INDIVIDUAL;PARTSTAT=ACCEPTE
	D:noreply@halo.fr
ATTENDEE;CN="ODST107MCA";CUTYPE=INDIVIDUAL;PARTSTAT=ACCEPTED
	:noreply@halo.fr
ATTENDEE;CN="XxRaptor414xX";CUTYPE=INDIVIDUAL;PARTSTAT=ACCEP
	TED:noreply@halo.fr
ATTENDEE;CN="Toni911";CUTYPE=INDIVIDUAL;PARTSTAT=ACCEPTED:no
	reply@halo.fr
ATTENDEE;CN="Geof_R";CUTYPE=INDIVIDUAL;PARTSTAT=ACCEPTED:nor
	eply@halo.fr
ATTENDEE;CN="NartyxGames";CUTYPE=INDIVIDUAL;PARTSTAT=ACCEPTE
	D:noreply@halo.fr
ATTENDEE;CN="Tony2000";CUTYPE=INDIVIDUAL;PARTSTAT=ACCEPTED:n
	oreply@halo.fr
END:VEVENT
END:VCALENDAR
