BEGIN:VCALENDAR
VERSION:2.0
PRODID:-//InvisionCommunity Events 4.7.14//EN
METHOD:PUBLISH
CALSCALE:GREGORIAN
REFRESH-INTERVAL:PT15M
X-PUBLISHED-TTL:PT15M
X-WR-CALNAME:Calendrier Communautaire
NAME:Calendrier Communautaire
BEGIN:VTIMEZONE
TZID:Europe/London
TZURL:http://tzurl.org/zoneinfo/Europe/London
X-LIC-LOCATION:Europe/London
BEGIN:DAYLIGHT
TZOFFSETFROM:+0000
TZOFFSETTO:+0100
TZNAME:BST
DTSTART:20160327T020000Z
RRULE:FREQ=YEARLY;BYMONTH=3;BYDAY=-1SU
END:DAYLIGHT
BEGIN:STANDARD
TZOFFSETFROM:+0100
TZOFFSETTO:+0000
TZNAME:GMT
DTSTART:20161030T020000Z
RRULE:FREQ=YEARLY;BYMONTH=10;BYDAY=-1SU
END:STANDARD
END:VTIMEZONE
BEGIN:VEVENT
SUMMARY:Soirée Fun Halo.fr
DTSTAMP:20160530T175206Z
SEQUENCE:0
UID:206-1-b5c04f7b3f733bcbcff44af62a0d7fa1@dev.halo.fr
ORGANIZER;CN="Upper Chief":noreply@halo.fr
DESCRIPTION:\n\n	Bonjour amis Spartans (ou Elites) !\n\n\n\n	Vous aimez 
	le Fun\, alors vous propose du Fun et cela rien que pour vous !\n\n\n\n	On
	 vous invite à venir avec vos maps forgées et modes personnalisés\, de
	 façon à profiter un maximum du savoir faire français !\n\n\n\n	De plus
	\, il vous est demandé de garder une ambiance calme et correcte lors de c
	et événement.\n\n\n\n	Organisateur(s) de cet événement : TYI TouBenF &
	amp\; Playbox 36\n\n
DTSTART:20160617T190000Z
DTEND:20160617T210000Z
ATTENDEE;CN="Sky Pleiades";CUTYPE=INDIVIDUAL;PARTSTAT=ACCEPT
	ED:noreply@halo.fr
ATTENDEE;CN="Spartan Fred";CUTYPE=INDIVIDUAL;PARTSTAT=ACCEPT
	ED:noreply@halo.fr
ATTENDEE;CN="mathieu_Audi";CUTYPE=INDIVIDUAL;PARTSTAT=ACCEPT
	ED:noreply@halo.fr
ATTENDEE;CN="Gabi Gaming";CUTYPE=INDIVIDUAL;PARTSTAT=ACCEPTE
	D:noreply@halo.fr
ATTENDEE;CN="xlbfx chasseur";CUTYPE=INDIVIDUAL;PARTSTAT=ACCE
	PTED:noreply@halo.fr
ATTENDEE;CN="SPONSOR MAJOR";CUTYPE=INDIVIDUAL;PARTSTAT=ACCEP
	TED:noreply@halo.fr
ATTENDEE;CN="Olivier-jck";CUTYPE=INDIVIDUAL;PARTSTAT=ACCEPTE
	D:noreply@halo.fr
ATTENDEE;CN="richeman";CUTYPE=INDIVIDUAL;PARTSTAT=ACCEPTED:n
	oreply@halo.fr
ATTENDEE;CN="XxRaptor414xX";CUTYPE=INDIVIDUAL;PARTSTAT=ACCEP
	TED:noreply@halo.fr
ATTENDEE;CN="onistriketeam";CUTYPE=INDIVIDUAL;PARTSTAT=ACCEP
	TED:noreply@halo.fr
ATTENDEE;CN="MajorDaan48";CUTYPE=INDIVIDUAL;PARTSTAT=ACCEPTE
	D:noreply@halo.fr
ATTENDEE;CN="Zharvest";CUTYPE=INDIVIDUAL;PARTSTAT=ACCEPTED:n
	oreply@halo.fr
ATTENDEE;CN="Sach_VS_Games23";CUTYPE=INDIVIDUAL;PARTSTAT=ACC
	EPTED:noreply@halo.fr
ATTENDEE;CN="NartyxGames";CUTYPE=INDIVIDUAL;PARTSTAT=ACCEPTE
	D:noreply@halo.fr
END:VEVENT
END:VCALENDAR
