BEGIN:VCALENDAR
VERSION:2.0
PRODID:-//InvisionCommunity Events 4.7.14//EN
METHOD:PUBLISH
CALSCALE:GREGORIAN
REFRESH-INTERVAL:PT15M
X-PUBLISHED-TTL:PT15M
X-WR-CALNAME:Calendrier Communautaire
NAME:Calendrier Communautaire
BEGIN:VTIMEZONE
TZID:Europe/London
TZURL:http://tzurl.org/zoneinfo/Europe/London
X-LIC-LOCATION:Europe/London
BEGIN:DAYLIGHT
TZOFFSETFROM:+0000
TZOFFSETTO:+0100
TZNAME:BST
DTSTART:20160327T020000Z
RRULE:FREQ=YEARLY;BYMONTH=3;BYDAY=-1SU
END:DAYLIGHT
BEGIN:STANDARD
TZOFFSETFROM:+0100
TZOFFSETTO:+0000
TZNAME:GMT
DTSTART:20161030T020000Z
RRULE:FREQ=YEARLY;BYMONTH=10;BYDAY=-1SU
END:STANDARD
END:VTIMEZONE
BEGIN:VEVENT
SUMMARY:Soirée BTB Halo.Fr
DTSTAMP:20160331T215318Z
SEQUENCE:0
UID:135-1-b5c04f7b3f733bcbcff44af62a0d7fa1@dev.halo.fr
ORGANIZER;CN="Upper Chief":noreply@halo.fr
DESCRIPTION:\n\n	Bonjour amis Spartans\,\n\n\n\n	C'est simple\, vous en 
	voulez ? Et bien on vous en propose du BTB !\n\n\n\n	Il est a noté que si
	 nous sommes jusqu'à huit joueurs\, le BTB en ligne sera le bienvenue. Si
	 nous sommes au-delà de huit joueurs\, nous irons simplement en partie pe
	rsonnalisée.\n\n\n\n	Venez nombreux !\n\n\n\n	Animateurs de cette soirée
	 : MrDjjejeman &amp\; MrOhrion\n\n\n\n	MrDjjejeman est un animateur à l
	'essai\, il est prêt à prendre de son temps pour vous la communauté !\n
	\n
DTSTART:20160423T190000Z
DTEND:20160423T210000Z
ATTENDEE;CN="Spartan Fred";CUTYPE=INDIVIDUAL;PARTSTAT=ACCEPT
	ED:noreply@halo.fr
ATTENDEE;CN="Bastien BOURGIN";CUTYPE=INDIVIDUAL;PARTSTAT=ACC
	EPTED:noreply@halo.fr
ATTENDEE;CN="Replicolas";CUTYPE=INDIVIDUAL;PARTSTAT=ACCEPTED
	:noreply@halo.fr
ATTENDEE;CN="AkaiKirii";CUTYPE=INDIVIDUAL;PARTSTAT=ACCEPTED:
	noreply@halo.fr
ATTENDEE;CN="Peluneru";CUTYPE=INDIVIDUAL;PARTSTAT=ACCEPTED:n
	oreply@halo.fr
END:VEVENT
END:VCALENDAR
