BEGIN:VCALENDAR
VERSION:2.0
PRODID:-//InvisionCommunity Events 4.7.14//EN
METHOD:PUBLISH
CALSCALE:GREGORIAN
REFRESH-INTERVAL:PT15M
X-PUBLISHED-TTL:PT15M
X-WR-CALNAME:Calendrier Communautaire
NAME:Calendrier Communautaire
BEGIN:VTIMEZONE
TZID:Europe/London
TZURL:http://tzurl.org/zoneinfo/Europe/London
X-LIC-LOCATION:Europe/London
BEGIN:DAYLIGHT
TZOFFSETFROM:+0000
TZOFFSETTO:+0100
TZNAME:BST
DTSTART:20160327T020000Z
RRULE:FREQ=YEARLY;BYMONTH=3;BYDAY=-1SU
END:DAYLIGHT
BEGIN:STANDARD
TZOFFSETFROM:+0100
TZOFFSETTO:+0000
TZNAME:GMT
DTSTART:20161030T020000Z
RRULE:FREQ=YEARLY;BYMONTH=10;BYDAY=-1SU
END:STANDARD
END:VTIMEZONE
BEGIN:VEVENT
SUMMARY:Soirée Fun Halo.Fr
DTSTAMP:20160225T135643Z
SEQUENCE:0
UID:113-1-b5c04f7b3f733bcbcff44af62a0d7fa1@dev.halo.fr
ORGANIZER;CN="Upper Chief":noreply@halo.fr
DESCRIPTION:\n\n\n	Bonjour amis Spartans\,\n\n\n\n\n\n\n\n	Nous annonço
	ns la poursuite des événements Fun !\n\n\n\n\n\n\n\n	On vous invite 
	à venir avec des maps forgées et des modes personnalisés\, de faço
	n à profiter un maximum !\n\n\n\n\n\n\n\n	De plus\, il vous est demandé 
	de garder une ambiance calme et correcte lors de cette soirée.\n\n\n\n\n
	\n\n\n	Animateur de cette soirée : HFr Upper Chief &amp\; Borjoyzee13\n\
	n\n
DTSTART:20160318T200000Z
DTEND:20160318T220000Z
ATTENDEE;CN="Spartan Fred";CUTYPE=INDIVIDUAL;PARTSTAT=ACCEPT
	ED:noreply@halo.fr
ATTENDEE;CN="Spartax";CUTYPE=INDIVIDUAL;PARTSTAT=ACCEPTED:no
	reply@halo.fr
ATTENDEE;CN="Bastien BOURGIN";CUTYPE=INDIVIDUAL;PARTSTAT=ACC
	EPTED:noreply@halo.fr
ATTENDEE;CN="Val DouV2";CUTYPE=INDIVIDUAL;PARTSTAT=ACCEPTED:
	noreply@halo.fr
ATTENDEE;CN="NooBi";CUTYPE=INDIVIDUAL;PARTSTAT=ACCEPTED:nore
	ply@halo.fr
ATTENDEE;CN="Drago-Nightmare";CUTYPE=INDIVIDUAL;PARTSTAT=ACC
	EPTED:noreply@halo.fr
ATTENDEE;CN="SlashxDAM";CUTYPE=INDIVIDUAL;PARTSTAT=ACCEPTED:
	noreply@halo.fr
ATTENDEE;CN="bilo74";CUTYPE=INDIVIDUAL;PARTSTAT=ACCEPTED:nor
	eply@halo.fr
ATTENDEE;CN="Mr Typex";CUTYPE=INDIVIDUAL;PARTSTAT=ACCEPTED:n
	oreply@halo.fr
ATTENDEE;CN="Tactii";CUTYPE=INDIVIDUAL;PARTSTAT=ACCEPTED:nor
	eply@halo.fr
ATTENDEE;CN="Fx69 Fr";CUTYPE=INDIVIDUAL;PARTSTAT=ACCEPTED:no
	reply@halo.fr
ATTENDEE;CN="Super Ryan 2";CUTYPE=INDIVIDUAL;PARTSTAT=ACCEPT
	ED:noreply@halo.fr
ATTENDEE;CN="Gabi Gaming";CUTYPE=INDIVIDUAL;PARTSTAT=ACCEPTE
	D:noreply@halo.fr
ATTENDEE;CN="Banta";CUTYPE=INDIVIDUAL;PARTSTAT=ACCEPTED:nore
	ply@halo.fr
ATTENDEE;CN="Tekirai";CUTYPE=INDIVIDUAL;PARTSTAT=ACCEPTED:no
	reply@halo.fr
ATTENDEE;CN="Damiius";CUTYPE=INDIVIDUAL;PARTSTAT=ACCEPTED:no
	reply@halo.fr
ATTENDEE;CN="OraxisOne";CUTYPE=INDIVIDUAL;PARTSTAT=ACCEPTED:
	noreply@halo.fr
END:VEVENT
END:VCALENDAR
