BEGIN:VCALENDAR
VERSION:2.0
PRODID:-//InvisionCommunity Events 4.7.14//EN
METHOD:PUBLISH
CALSCALE:GREGORIAN
REFRESH-INTERVAL:PT15M
X-PUBLISHED-TTL:PT15M
X-WR-CALNAME:Calendrier Communautaire
NAME:Calendrier Communautaire
BEGIN:VTIMEZONE
TZID:Europe/London
TZURL:http://tzurl.org/zoneinfo/Europe/London
X-LIC-LOCATION:Europe/London
BEGIN:DAYLIGHT
TZOFFSETFROM:+0000
TZOFFSETTO:+0100
TZNAME:BST
DTSTART:20150329T020000Z
RRULE:FREQ=YEARLY;BYMONTH=3;BYDAY=-1SU
END:DAYLIGHT
BEGIN:STANDARD
TZOFFSETFROM:+0100
TZOFFSETTO:+0000
TZNAME:GMT
DTSTART:20151025T020000Z
RRULE:FREQ=YEARLY;BYMONTH=10;BYDAY=-1SU
END:STANDARD
END:VTIMEZONE
BEGIN:VEVENT
SUMMARY:HaloWards
DTSTAMP:20151003T122209Z
SEQUENCE:0
UID:1-1-b5c04f7b3f733bcbcff44af62a0d7fa1@dev.halo.fr
ORGANIZER;CN="Banta":noreply@halo.fr
DESCRIPTION:\nRécompense des Halowards\n
DTSTART:20151004T183000Z
DTEND:20151004T210000Z
ATTENDEE;CN="Banta";CUTYPE=INDIVIDUAL;PARTSTAT=ACCEPTED:nore
	ply@halo.fr
ATTENDEE;CN="CyaMax";CUTYPE=INDIVIDUAL;PARTSTAT=ACCEPTED:nor
	eply@halo.fr
ATTENDEE;CN="Aug45";CUTYPE=INDIVIDUAL;PARTSTAT=ACCEPTED:nore
	ply@halo.fr
ATTENDEE;CN="Lethal Projekt";CUTYPE=INDIVIDUAL;PARTSTAT=ACCE
	PTED:noreply@halo.fr
ATTENDEE;CN="Major Jakob";CUTYPE=INDIVIDUAL;PARTSTAT=ACCEPTE
	D:noreply@halo.fr
END:VEVENT
END:VCALENDAR
